BEGIN:VCALENDAR
VERSION:2.0
PRODID:-//Bauherrenhilfe.org | Baugutachten, Baubegleitung, Bauarbeitenkoordinator, Rechtsberatung in Kooperation mit Rechtsanwälten - ECPv6.15.20//NONSGML v1.0//EN
CALSCALE:GREGORIAN
METHOD:PUBLISH
X-ORIGINAL-URL:https://bauherrenhilfe.org
X-WR-CALDESC:Veranstaltungen für Bauherrenhilfe.org | Baugutachten, Baubegleitung, Bauarbeitenkoordinator, Rechtsberatung in Kooperation mit Rechtsanwälten
REFRESH-INTERVAL;VALUE=DURATION:PT1H
X-Robots-Tag:noindex
X-PUBLISHED-TTL:PT1H
BEGIN:VTIMEZONE
TZID:Europe/Vienna
BEGIN:DAYLIGHT
TZOFFSETFROM:+0100
TZOFFSETTO:+0200
TZNAME:CEST
DTSTART:20230326T010000
END:DAYLIGHT
BEGIN:STANDARD
TZOFFSETFROM:+0200
TZOFFSETTO:+0100
TZNAME:CET
DTSTART:20231029T010000
END:STANDARD
BEGIN:DAYLIGHT
TZOFFSETFROM:+0100
TZOFFSETTO:+0200
TZNAME:CEST
DTSTART:20240331T010000
END:DAYLIGHT
BEGIN:STANDARD
TZOFFSETFROM:+0200
TZOFFSETTO:+0100
TZNAME:CET
DTSTART:20241027T010000
END:STANDARD
BEGIN:DAYLIGHT
TZOFFSETFROM:+0100
TZOFFSETTO:+0200
TZNAME:CEST
DTSTART:20250330T010000
END:DAYLIGHT
BEGIN:STANDARD
TZOFFSETFROM:+0200
TZOFFSETTO:+0100
TZNAME:CET
DTSTART:20251026T010000
END:STANDARD
END:VTIMEZONE
BEGIN:VEVENT
DTSTART;TZID=Europe/Vienna:20240426T110000
DTEND;TZID=Europe/Vienna:20240426T183000
DTSTAMP:20260423T171400
CREATED:20240424T084449Z
LAST-MODIFIED:20240424T084517Z
UID:59838-1714129200-1714156200@bauherrenhilfe.org
SUMMARY:100 Jahre Daikin - Infotag | 26.04.2024
DESCRIPTION:Anlässlich seines 100. Geburtstages veranstaltet Daikin einen Infotag in seinem Flagship-Store in der Westfield Shopping City Süd. Mit spannenden Vorträgen wird Einblick in die beeindruckende Geschichte von Daikin gewährt. Die Expert:innen für Wärmepumpen und Klimaanlagen erklären zudem alles\, was über die Produkte von Daikin bekannt sein sollte. Interessierte sind herzlich eingeladen\, vorbeizuschauen und gemeinsam 100 Jahre Daikin zu feiern. \n  \nProgramm-Highlights \n\n11.00 Uhr: Willkommen beim Daikin Infotag\n11.30 Uhr: Energiewende in deinem Zuhause – Daikin Wärmepumpen und Förderungen (Vortrag)\n12.30 Uhr: Bereit für den Sommer – Daikin Klimaanlagen für dein perfektes Wohlfühlklima (Vortrag)\n13.30 Uhr: 100 Jahre Daikin – eine Erfolgsgeschichte (Votrag)\n13.45 Uhr: Tortenanschnitt – gemeinsames Feiern\n14.30 Uhr:  „Sanieren mit den Nussbaums“ – Interview mit Günther Nussbaum\n16.00 Uhr: Heizen\, Kühlen\, Saubere Luft – das Daikin Produktportfolio für deine vier Wände (Vortrag)\n17.00 Uhr: Interview mit Stefan Koubek – „Stefan Koubek setzt auf Daikin Wärmepumpen“\n18.00 Uhr: Verlosung der Hauptgewinne\nab 18.30 Uhr: Ausklang\n\n  \n-Günther Nussbaum \nErleben Sie hautnah\, wie Günther Nussbaum von der Bauherrenhilfe exklusiv über seine Erfahrungen mit Daikin spricht! Von der Auswahl seiner Daikin Wärmepumpe bis zur                 Installation – er teilt seine persönlichen Einblicke und gibt wertvolle Tipps. Anschließend laden wir Sie ein\, in entspannter Atmosphäre mit ihm zu plaudern und Ihre Fragen zu stellen. \n-Glücksrad \n-Geburtstagstorte \n-Stefan Koubek \n-Fachvorträge \n-Geburtstagsbonus \nFür alle Besucherinnen und Besucher gibt es am 26. April 2024 einen exklusiven Geburtstagsbonus! Beim Kauf einer Klimaanlage erhaltest du einen Rabatt von EUR 100\,00 pro   Innengerät. Beim Kauf einer Wärmepumpe beträgt der Rabatt EUR 500\,00. Der Bonus ist gültig bei Bestellung bis 29.Juni 2024. \nMehr<
URL:https://bauherrenhilfe.org/event/100-jahre-daikin-infotag-26-04-2024/
LOCATION:Daikin Flagship-Store in der Westfield Shopping City Süd\, Westfield Shopping City Süd\, Vösendorf\, 2331\, Österreich
CATEGORIES:Veranstaltung/Infoabend
END:VEVENT
END:VCALENDAR