BEGIN:VCALENDAR
VERSION:2.0
PRODID:-//Bauherrenhilfe.org | Baugutachten, Baubegleitung, Bauarbeitenkoordinator, Rechtsberatung in Kooperation mit Rechtsanwälten - ECPv6.15.20//NONSGML v1.0//EN
CALSCALE:GREGORIAN
METHOD:PUBLISH
X-ORIGINAL-URL:https://bauherrenhilfe.org
X-WR-CALDESC:Veranstaltungen für Bauherrenhilfe.org | Baugutachten, Baubegleitung, Bauarbeitenkoordinator, Rechtsberatung in Kooperation mit Rechtsanwälten
REFRESH-INTERVAL;VALUE=DURATION:PT1H
X-Robots-Tag:noindex
X-PUBLISHED-TTL:PT1H
BEGIN:VTIMEZONE
TZID:Europe/Vienna
BEGIN:DAYLIGHT
TZOFFSETFROM:+0100
TZOFFSETTO:+0200
TZNAME:CEST
DTSTART:20240331T010000
END:DAYLIGHT
BEGIN:STANDARD
TZOFFSETFROM:+0200
TZOFFSETTO:+0100
TZNAME:CET
DTSTART:20241027T010000
END:STANDARD
BEGIN:DAYLIGHT
TZOFFSETFROM:+0100
TZOFFSETTO:+0200
TZNAME:CEST
DTSTART:20250330T010000
END:DAYLIGHT
BEGIN:STANDARD
TZOFFSETFROM:+0200
TZOFFSETTO:+0100
TZNAME:CET
DTSTART:20251026T010000
END:STANDARD
BEGIN:DAYLIGHT
TZOFFSETFROM:+0100
TZOFFSETTO:+0200
TZNAME:CEST
DTSTART:20260329T010000
END:DAYLIGHT
BEGIN:STANDARD
TZOFFSETFROM:+0200
TZOFFSETTO:+0100
TZNAME:CET
DTSTART:20261025T010000
END:STANDARD
END:VTIMEZONE
BEGIN:VEVENT
DTSTART;TZID=Europe/Vienna:20250913T090000
DTEND;TZID=Europe/Vienna:20250913T160000
DTSTAMP:20260422T013943
CREATED:20250903T094323Z
LAST-MODIFIED:20250903T094350Z
UID:61798-1757754000-1757779200@bauherrenhilfe.org
SUMMARY:Hausmesse 2025 – Jetzt besuchen und Wohnträume entdecken! | ETZI-Haus
DESCRIPTION:Tauchen Sie ein in die ETZI-World und erleben Sie unsere Hausmesse 2025 – voller Highlights\, Experten-Talks und praktischer Tipps rund ums Bauen und Wohnen. \n\n\n\n\n🎉 Rahmenprogramm\n\n\nShow-Cooking im DANKÜCHEN-Studio mit Ulrich Helminger \n\n\nWerksführungen durch die WALLMENT-Fertigungshalle \n\n\nAutogrammstunde mit Günther Nussbaum (12:30–13:00 Uhr) \n\n\nGewinnspiel mit attraktiven Preisen \n\n\n👉 Alle Infos & Details: Zur Hausmesse-Seite \n\n\n📚 Fachvorträge\n\n\n09:00 Uhr – „Wohlfühloase Bad: so einfach geht’s“ – HOLTER GmbH \n\n\n10:00 Uhr – „Effizient Heizen mit Luftwärmepumpe“ – Viessmann GmbH \n\n\n11:00 Uhr – „Pannen & Pleiten beim Hausbau“ – Bauherrenhilfe.org \n\n\n13:00 Uhr – „Wohnträume finanzieren“ – Swiss Life GmbH \n\n\n14:00 Uhr – „Richtig planen\, Geld sparen“ – ETZI-Group GmbH \n\n\n👉 Zum Programm: Hier klicken \n\n\n👩‍💼 Expert:innen vor Ort\n\n\nChristian Oberleitner (HOLTER GmbH) \n\n\nIng. Anna Reinthaller (Viessmann GmbH) \n\n\nGünther Nussbaum (Bauherrenhilfe.org) \n\n\nMarkus Kraft\, MBA (Swiss Life GmbH) \n\n\nDI Martina Leitner (ETZI-Group GmbH) \n\n\n👉 Jetzt informieren: Zur Übersicht \n\n\n\n\n\n📌 Anmeldung & Kontakt\nFür Fragen oder persönliche Beratung wenden Sie sich bitte direkt an ETZI-Haus:📞 +43 7588 208 00-0🌐 Anmeldung & Infos
URL:https://bauherrenhilfe.org/event/hausmesse-2025-jetzt-besuchen-und-wohntraeume-entdecken-etzi-haus/
LOCATION:grossendorf 120   4551 ried\, grossendorf 120\, ried\, 4551\, Austria
CATEGORIES:Veranstaltung/Infoabend,Veranstalung Hausbau
ATTACH;FMTTYPE=image/jpeg:https://bauherrenhilfe.org/wp-content/uploads/csm_2025_09_Werbung_Hausmesse_Social_Media_Titelbild-Facebook_1200x628px_3f2fd6ccac-e1756892693321.jpg
END:VEVENT
END:VCALENDAR