BEGIN:VCALENDAR
VERSION:2.0
PRODID:-//Bauherrenhilfe.org | Baugutachten, Baubegleitung, Bauarbeitenkoordinator, Rechtsberatung in Kooperation mit Rechtsanwälten - ECPv6.15.20//NONSGML v1.0//EN
CALSCALE:GREGORIAN
METHOD:PUBLISH
X-ORIGINAL-URL:https://bauherrenhilfe.org
X-WR-CALDESC:Veranstaltungen für Bauherrenhilfe.org | Baugutachten, Baubegleitung, Bauarbeitenkoordinator, Rechtsberatung in Kooperation mit Rechtsanwälten
REFRESH-INTERVAL;VALUE=DURATION:PT1H
X-Robots-Tag:noindex
X-PUBLISHED-TTL:PT1H
BEGIN:VTIMEZONE
TZID:Europe/Vienna
BEGIN:DAYLIGHT
TZOFFSETFROM:+0100
TZOFFSETTO:+0200
TZNAME:CEST
DTSTART:20250330T010000
END:DAYLIGHT
BEGIN:STANDARD
TZOFFSETFROM:+0200
TZOFFSETTO:+0100
TZNAME:CET
DTSTART:20251026T010000
END:STANDARD
BEGIN:DAYLIGHT
TZOFFSETFROM:+0100
TZOFFSETTO:+0200
TZNAME:CEST
DTSTART:20260329T010000
END:DAYLIGHT
BEGIN:STANDARD
TZOFFSETFROM:+0200
TZOFFSETTO:+0100
TZNAME:CET
DTSTART:20261025T010000
END:STANDARD
BEGIN:DAYLIGHT
TZOFFSETFROM:+0100
TZOFFSETTO:+0200
TZNAME:CEST
DTSTART:20270328T010000
END:DAYLIGHT
BEGIN:STANDARD
TZOFFSETFROM:+0200
TZOFFSETTO:+0100
TZNAME:CET
DTSTART:20271031T010000
END:STANDARD
END:VTIMEZONE
BEGIN:VEVENT
DTSTART;TZID=Europe/Vienna:20260313T000000
DTEND;TZID=Europe/Vienna:20260314T000000
DTSTAMP:20260419T152718
CREATED:20260302T135011Z
LAST-MODIFIED:20260302T135011Z
UID:62645-1773360000-1773446400@bauherrenhilfe.org
SUMMARY:Eröffnungsfeier Traun GUARDI mit Günther Nussbaum
DESCRIPTION:Neuer GUARDI Schauraum in Traun eröffnet \nAm 13. und 14. März 2026 feiert GUARDI die große Eröffnung des neuen Schauraums in der Bäckerfeldstraße 13\, 4050 Traun. \nBesucher erwartet die gesamte Produktvielfalt rund um Zäune\, Tore\, Balkone\, Garten & Terrasse sowie Zubehör. Zusätzlich werden exklusive Highlights von SunElements präsentiert – darunter Designgartenhäuser und Pergolen mit Photovoltaik. \nEin besonderes Highlight: Am 13. März gibt Bauprofi Günther Nussbaum wertvolle Profi-Tipps. \nZur Eröffnung erhalten Kundinnen und Kunden 15 % Rabatt. Der Gutschein ist von 23. März bis 31. März 2026 einlösbar. \n \n 
URL:https://bauherrenhilfe.org/event/eroeffnungsfeier-traun-guardi-mit-guenther-nussbaum/
LOCATION:Bäckerfeldstraße 13\, 4050 Traun\, Bäckerfelderstraße 13\, traun\, 4050\, Austria
CATEGORIES:Veranstaltung/Infoabend,Veranstalung Hausbau
END:VEVENT
BEGIN:VEVENT
DTSTART;TZID=Europe/Vienna:20260314T100000
DTEND;TZID=Europe/Vienna:20260315T160000
DTSTAMP:20260419T152718
CREATED:20260202T141408Z
LAST-MODIFIED:20260202T141409Z
UID:62364-1773482400-1773590400@bauherrenhilfe.org
SUMMARY:Haas Hausmesse mit Bauberatung: Bauen erleben für die ganze Familie
DESCRIPTION:Am 14. und 15. März lädt Haas zur großen Hausmesse am Werksgelände in Großwilfersdorf ein. Jeweils von 10 bis 16 Uhr dreht sich alles ums Thema Hausbau\, moderne Lösungen und persönliche Bauberatung – bei freiem Eintritt. \n\n\n\n\n\n\n\n\nEin besonderes Highlight ist der Vortrag von Günther Nussbaum\, bekannt aus „Pfusch am Bau“. Der Bausachverständige spricht am Samstag um 11 Uhr über typische Baumängel\, Risiken und worauf Bauherren in der Praxis besonders achten sollten. \nNeben zahlreichen Ausstellern rund ums Bauen erwarten Besucher spannende Werksführungen\, ein Ostermarkt mit regionalen Anbietern sowie eine Genussmeile. Für Kinder gibt es Karussell\, Hüpfburg und Kinderschminken\, während Actionfans beim Gratis-Bungy-Jump auf ihre Kosten kommen. \nDie Haas Hausmesse verbindet Information\, Beratung und Erlebnis – ideal für alle\, die bauen\, renovieren oder sich einfach inspirieren lassen möchten. \n\n\n\n\nZum Flyer<\n\n\n\n\n\n\n\n(Veröffentlicht am 02.02.2026)
URL:https://bauherrenhilfe.org/event/haas-hausmesse-mit-bauberatung-bauen-erleben-fuer-die-ganze-familie/
LOCATION:Haas Fertigbau Holzbauwerk GmbH&CoKG\, 8263 Großwilfersdorf\, Radersdorf 62\, Radersdorf 62\, Großwilfersdorf\, Steiermark\, 8263\, Austria
END:VEVENT
END:VCALENDAR