BEGIN:VCALENDAR
VERSION:2.0
PRODID:-//Bauherrenhilfe.org | Baugutachten, Baubegleitung, Bauarbeitenkoordinator, Rechtsberatung in Kooperation mit Rechtsanwälten - ECPv6.15.20//NONSGML v1.0//EN
CALSCALE:GREGORIAN
METHOD:PUBLISH
X-ORIGINAL-URL:https://bauherrenhilfe.org
X-WR-CALDESC:Veranstaltungen für Bauherrenhilfe.org | Baugutachten, Baubegleitung, Bauarbeitenkoordinator, Rechtsberatung in Kooperation mit Rechtsanwälten
REFRESH-INTERVAL;VALUE=DURATION:PT1H
X-Robots-Tag:noindex
X-PUBLISHED-TTL:PT1H
BEGIN:VTIMEZONE
TZID:Europe/Vienna
BEGIN:DAYLIGHT
TZOFFSETFROM:+0100
TZOFFSETTO:+0200
TZNAME:CEST
DTSTART:20240331T010000
END:DAYLIGHT
BEGIN:STANDARD
TZOFFSETFROM:+0200
TZOFFSETTO:+0100
TZNAME:CET
DTSTART:20241027T010000
END:STANDARD
BEGIN:DAYLIGHT
TZOFFSETFROM:+0100
TZOFFSETTO:+0200
TZNAME:CEST
DTSTART:20250330T010000
END:DAYLIGHT
BEGIN:STANDARD
TZOFFSETFROM:+0200
TZOFFSETTO:+0100
TZNAME:CET
DTSTART:20251026T010000
END:STANDARD
BEGIN:DAYLIGHT
TZOFFSETFROM:+0100
TZOFFSETTO:+0200
TZNAME:CEST
DTSTART:20260329T010000
END:DAYLIGHT
BEGIN:STANDARD
TZOFFSETFROM:+0200
TZOFFSETTO:+0100
TZNAME:CET
DTSTART:20261025T010000
END:STANDARD
END:VTIMEZONE
BEGIN:VEVENT
DTSTART;TZID=Europe/Vienna:20251017T090000
DTEND;TZID=Europe/Vienna:20251019T170000
DTSTAMP:20260420T000757
CREATED:20250916T110954Z
LAST-MODIFIED:20250916T113927Z
UID:61814-1760691600-1760893200@bauherrenhilfe.org
SUMMARY:Wir sind dabei: BAU. ENERGIE. WOHNEN. 2025 in Wieselburg
DESCRIPTION:Vom 17. bis 19. Oktober 2025 verwandelt sich die Messe Wieselburg wieder in den Treffpunkt für alle\, die bauen\, sanieren oder ihr Zuhause ganz neu gestalten wollen. Und wir – die Bauherrenhilfe.org – sind natürlich mit einem eigenen Stand mit dabei! \nWarum sich ein Besuch lohnt\nRund 300 Aussteller präsentieren ihre Produkte und Dienstleistungen – von Baustoffen über Heiz- und Energietechnik bis hin zu Möbel\, Einrichtung und Dekoration. \nEnergie & Nachhaltigkeit im Fokus: Infos zu Photovoltaik\, Wärmepumpen\, Speicherlösungen und energieeffizientem Sanieren. \nWohnideen & Interior-Trends: Inspiration für Küche\, Bad\, Garten\, Smart Home und modernes Wohnen. \nBeratung & Vorträge: Experten geben Einblicke in Themen wie Förderungen\, Energiesparen oder Finanzierung. \nRahmenprogramm für die ganze Familie: Aktionen\, Gewinnspiele und spannende Programmpunkte machen den Messebesuch zu einem Erlebnis. \nGünther Nussbaum live: Nutzt die einmalige Chance\, einen Beratungstermin mit Günther Nussbaum zu gewinnen – bekannt aus Baupraxis & TV. Mehr Infos dazu gibt’s direkt bei uns. \nTermine & Infos\n\n\n\n\n\nDatum\nOrt\nÖffnungszeiten\n\n\n\n\n17.–19. Oktober 2025\nMesse Wieselburg\, Volksfestplatz 3\nFreitag bis Sonntag\, jeweils 09:00–17:00 Uhr\n\n\n\n\n\n\nMEHR< \n(Bildquelle: Daten & Fakten / Messe Wieselburg )
URL:https://bauherrenhilfe.org/event/wir-sind-dabei-bau-energie-wohnen-2025-in-wieselburg/
LOCATION:A-3250 Wieselburg\, Volksfestplatz 3\, Volksfestplatz 3\, Wieselburg\, niederösterreich\, 3250\, Austria
CATEGORIES:FachMesse
ATTACH;FMTTYPE=image/jpeg:https://bauherrenhilfe.org/wp-content/uploads/bew25-header.jpg
END:VEVENT
END:VCALENDAR