BEGIN:VCALENDAR
VERSION:2.0
PRODID:-//Bauherrenhilfe.org | Baugutachten, Baubegleitung, Bauarbeitenkoordinator, Rechtsberatung in Kooperation mit Rechtsanwälten - ECPv6.15.20//NONSGML v1.0//EN
CALSCALE:GREGORIAN
METHOD:PUBLISH
X-ORIGINAL-URL:https://bauherrenhilfe.org
X-WR-CALDESC:Veranstaltungen für Bauherrenhilfe.org | Baugutachten, Baubegleitung, Bauarbeitenkoordinator, Rechtsberatung in Kooperation mit Rechtsanwälten
REFRESH-INTERVAL;VALUE=DURATION:PT1H
X-Robots-Tag:noindex
X-PUBLISHED-TTL:PT1H
BEGIN:VTIMEZONE
TZID:Europe/Vienna
BEGIN:DAYLIGHT
TZOFFSETFROM:+0100
TZOFFSETTO:+0200
TZNAME:CEST
DTSTART:20250330T010000
END:DAYLIGHT
BEGIN:STANDARD
TZOFFSETFROM:+0200
TZOFFSETTO:+0100
TZNAME:CET
DTSTART:20251026T010000
END:STANDARD
BEGIN:DAYLIGHT
TZOFFSETFROM:+0100
TZOFFSETTO:+0200
TZNAME:CEST
DTSTART:20260329T010000
END:DAYLIGHT
BEGIN:STANDARD
TZOFFSETFROM:+0200
TZOFFSETTO:+0100
TZNAME:CET
DTSTART:20261025T010000
END:STANDARD
BEGIN:DAYLIGHT
TZOFFSETFROM:+0100
TZOFFSETTO:+0200
TZNAME:CEST
DTSTART:20270328T010000
END:DAYLIGHT
BEGIN:STANDARD
TZOFFSETFROM:+0200
TZOFFSETTO:+0100
TZNAME:CET
DTSTART:20271031T010000
END:STANDARD
END:VTIMEZONE
BEGIN:VEVENT
DTSTART;TZID=Europe/Vienna:20260221T140000
DTEND;TZID=Europe/Vienna:20260221T150000
DTSTAMP:20260419T194944
CREATED:20260202T105035Z
LAST-MODIFIED:20260202T105056Z
UID:62344-1771682400-1771686000@bauherrenhilfe.org
SUMMARY:Häuslbauermesse Klagenfurt mit Guardi Österreich & Günther Nussbaum
DESCRIPTION: 
URL:https://bauherrenhilfe.org/event/haeuslbauermesse-klagenfurt-mit-guardi-oesterreich-guenther-nussbaum/
LOCATION:Messeplatz 1 A-9020 Klagenfurt am Wörthersee\, Messeplatz 1\, Klagenfurt am Wörthersee\, Kärnten\, 9020\, Austria
CATEGORIES:FachMesse
END:VEVENT
BEGIN:VEVENT
DTSTART;TZID=Europe/Vienna:20260221T140000
DTEND;TZID=Europe/Vienna:20260221T150000
DTSTAMP:20260419T194944
CREATED:20260218T143821Z
LAST-MODIFIED:20260218T145510Z
UID:62534-1771682400-1771686000@bauherrenhilfe.org
SUMMARY:Günther Nussbaum zu Gast auf der Häuslbauermesse in Klagenfurt
DESCRIPTION:Im Rahmen der Häuslbauermesse in Klagenfurt ist am 21. Februar 2026 ab 14 Uhr Günther Nussbaum vor Ort. Viele kennen ihn aus seinen TV-Auftritten auf PULS 4\, wo er sein Fachwissen rund um Baumängel\, Qualität und Sanierung teilt. \nSein Besuch bietet Messebesucher:innen die Möglichkeit\, einen der bekanntesten Bauexperten Österreichs persönlich zu erleben und sich rund um die Themen Bauen\, Sanieren und modernes Wohnen inspirieren zu lassen. \nDie Häuslbauermesse bietet darüber hinaus zahlreiche Aussteller\, innovative Produkte und individuelle Lösungen für alle\, die ein Bau- oder Wohnprojekt planen. \nFlyer< \n(Veröffentlicht am 18.02.2026)
URL:https://bauherrenhilfe.org/event/guenther-nussbaum-zu-gast-auf-der-haeuslbauermesse-in-klagenfurt/
LOCATION:Valentin-Leitgeb-Straße 1\, 9020 Klagenfurt am Wörthersee\, Valentin-Leitgeb-Straße 1\, Klagenfurt am Wörthersee\, Kärnten\, 9020
CATEGORIES:FachMesse
END:VEVENT
END:VCALENDAR